BEGIN:VCALENDAR
VERSION:2.0
PRODID:-//eventon.com NONSGML v1.0//EN
BEGIN:VEVENT
UID:69e88dcbbf647
DTSTAMP:20260422T105851
DTSTART:20250213T163000Z
DTEND:20250213T193000Z
LOCATION:Kulturzentrum Weitzgrrunder Str. 4
SUMMARY:Machtübernahme – Was passiert\,  wenn Rechtsextremisten regieren -  Eine Anleitung zum Widerstand
DESCRIPTION: Es sind beunruhigende Zeiten: Noch vor wenigen Jahren waren Rechtsextremisten im Parteienspektrum weitgehend isoliert. Heute jedoch gewinnen antidemokratische Positionen zunehmend an Zustimmung in der Gesellschaft\,  während die AfD bei Wahlen immer wieder Spitzenergebnisse erzielt. Es ist höchste Zeit\,  sich mit der realen Gefahr einer autoritären Machtübernahme auseinanderzusetzen. Der bekannte Politik-Aktivist[..]
END:VEVENT
END:VCALENDAR